BEGIN:VCALENDAR
VERSION:2.0
PRODID:-//St Cloud YMCA - ECPv6.15.20//NONSGML v1.0//EN
CALSCALE:GREGORIAN
METHOD:PUBLISH
X-WR-CALNAME:St Cloud YMCA
X-ORIGINAL-URL:https://scymca.org
X-WR-CALDESC:Events for St Cloud YMCA
REFRESH-INTERVAL;VALUE=DURATION:PT1H
X-Robots-Tag:noindex
X-PUBLISHED-TTL:PT1H
BEGIN:VTIMEZONE
TZID:America/Chicago
BEGIN:DAYLIGHT
TZOFFSETFROM:-0600
TZOFFSETTO:-0500
TZNAME:CDT
DTSTART:20250309T080000
END:DAYLIGHT
BEGIN:STANDARD
TZOFFSETFROM:-0500
TZOFFSETTO:-0600
TZNAME:CST
DTSTART:20251102T070000
END:STANDARD
BEGIN:DAYLIGHT
TZOFFSETFROM:-0600
TZOFFSETTO:-0500
TZNAME:CDT
DTSTART:20260308T080000
END:DAYLIGHT
BEGIN:STANDARD
TZOFFSETFROM:-0500
TZOFFSETTO:-0600
TZNAME:CST
DTSTART:20261101T070000
END:STANDARD
BEGIN:DAYLIGHT
TZOFFSETFROM:-0600
TZOFFSETTO:-0500
TZNAME:CDT
DTSTART:20270314T080000
END:DAYLIGHT
BEGIN:STANDARD
TZOFFSETFROM:-0500
TZOFFSETTO:-0600
TZNAME:CST
DTSTART:20271107T070000
END:STANDARD
END:VTIMEZONE
BEGIN:VEVENT
DTSTART;TZID=America/Chicago:20260422T050000
DTEND;TZID=America/Chicago:20260422T090000
DTSTAMP:20260422T035228
CREATED:20260203T235734Z
LAST-MODIFIED:20260415T235313Z
UID:10009828-1776834000-1776848400@scymca.org
SUMMARY:Gym 3 - Pickleball by Reservation
DESCRIPTION:
URL:https://scymca.org/event/gym-3-pickleball-by-reservation-371/
CATEGORIES:Gym 3 Schedule
END:VEVENT
BEGIN:VEVENT
DTSTART;TZID=America/Chicago:20260422T050000
DTEND;TZID=America/Chicago:20260422T090000
DTSTAMP:20260422T035228
CREATED:20260205T234124Z
LAST-MODIFIED:20260417T233809Z
UID:10010145-1776834000-1776848400@scymca.org
SUMMARY:Gym 2 - Pickleball by Reservation
DESCRIPTION:
URL:https://scymca.org/event/gym-2-pickleball-by-reservation-497/
CATEGORIES:Gym 2 Schedule
END:VEVENT
BEGIN:VEVENT
DTSTART;TZID=America/Chicago:20260422T050000
DTEND;TZID=America/Chicago:20260422T203000
DTSTAMP:20260422T035228
CREATED:20260211T233812Z
LAST-MODIFIED:20260417T233712Z
UID:10010909-1776834000-1776889800@scymca.org
SUMMARY:Gym 1 - Open Gym
DESCRIPTION:
URL:https://scymca.org/event/gym-1-open-gym-1342/
CATEGORIES:GYM 1
END:VEVENT
BEGIN:VEVENT
DTSTART;TZID=America/Chicago:20260422T090000
DTEND;TZID=America/Chicago:20260422T120000
DTSTAMP:20260422T035228
CREATED:20260205T234124Z
LAST-MODIFIED:20260417T233809Z
UID:10010146-1776848400-1776859200@scymca.org
SUMMARY:Gym 2 - Open Pickleball
DESCRIPTION:
URL:https://scymca.org/event/gym-2-open-pickleball-732/
CATEGORIES:Gym 2 Schedule
END:VEVENT
BEGIN:VEVENT
DTSTART;TZID=America/Chicago:20260422T090000
DTEND;TZID=America/Chicago:20260422T134500
DTSTAMP:20260422T035228
CREATED:20260303T234118Z
LAST-MODIFIED:20260415T235313Z
UID:10011053-1776848400-1776865500@scymca.org
SUMMARY:Gym 3 - Open Pickleball
DESCRIPTION:
URL:https://scymca.org/event/gym-3-open-pickleball-759/
CATEGORIES:Gym 3 Schedule
END:VEVENT
BEGIN:VEVENT
DTSTART;TZID=America/Chicago:20260422T090000
DTEND;TZID=America/Chicago:20260422T140000
DTSTAMP:20260422T035228
CREATED:20260203T235733Z
LAST-MODIFIED:20260301T235527Z
UID:10009827-1776848400-1776866400@scymca.org
SUMMARY:Gym 3 - Open Pickleball
DESCRIPTION:
URL:https://scymca.org/event/gym-3-open-pickleball-629/
CATEGORIES:Gym 3 Schedule
END:VEVENT
BEGIN:VEVENT
DTSTART;TZID=America/Chicago:20260422T120000
DTEND;TZID=America/Chicago:20260422T203000
DTSTAMP:20260422T035228
CREATED:20260407T171310Z
LAST-MODIFIED:20260417T233809Z
UID:10011767-1776859200-1776889800@scymca.org
SUMMARY:Gym 2 - Open Gym
DESCRIPTION:
URL:https://scymca.org/event/gym-2-open-gym-916/
CATEGORIES:Gym 2 Schedule
END:VEVENT
BEGIN:VEVENT
DTSTART;TZID=America/Chicago:20260422T140000
DTEND;TZID=America/Chicago:20260422T203000
DTSTAMP:20260422T035228
CREATED:20260203T235734Z
LAST-MODIFIED:20260310T235543Z
UID:10009829-1776866400-1776889800@scymca.org
SUMMARY:Gym 3 - Open Gym
DESCRIPTION:
URL:https://scymca.org/event/gym-3-open-gym-708/
CATEGORIES:Gym 3 Schedule
END:VEVENT
BEGIN:VEVENT
DTSTART;TZID=America/Chicago:20260422T140000
DTEND;TZID=America/Chicago:20260422T203000
DTSTAMP:20260422T035228
CREATED:20260312T234118Z
LAST-MODIFIED:20260405T235311Z
UID:10011258-1776866400-1776889800@scymca.org
SUMMARY:Gym 3 - Open Gym
DESCRIPTION:
URL:https://scymca.org/event/gym-3-open-gym-911/
CATEGORIES:Gym 3 Schedule
END:VEVENT
BEGIN:VEVENT
DTSTART;TZID=America/Chicago:20260422T140000
DTEND;TZID=America/Chicago:20260422T203000
DTSTAMP:20260422T035228
CREATED:20260407T171342Z
LAST-MODIFIED:20260415T235313Z
UID:10011778-1776866400-1776889800@scymca.org
SUMMARY:Gym 3 - Open Gym
DESCRIPTION:
URL:https://scymca.org/event/gym-3-open-gym-966/
CATEGORIES:Gym 3 Schedule
END:VEVENT
END:VCALENDAR